BEGIN:VCALENDAR
VERSION:2.0
PRODID:-//Matt Kelly Never Forgotten Foundation - ECPv6.15.20//NONSGML v1.0//EN
CALSCALE:GREGORIAN
METHOD:PUBLISH
X-WR-CALNAME:Matt Kelly Never Forgotten Foundation
X-ORIGINAL-URL:https://www.mattkellyneverforgotten.com
X-WR-CALDESC:Events for Matt Kelly Never Forgotten Foundation
REFRESH-INTERVAL;VALUE=DURATION:PT1H
X-Robots-Tag:noindex
X-PUBLISHED-TTL:PT1H
BEGIN:VTIMEZONE
TZID:America/New_York
BEGIN:DAYLIGHT
TZOFFSETFROM:-0500
TZOFFSETTO:-0400
TZNAME:EDT
DTSTART:20230312T070000
END:DAYLIGHT
BEGIN:STANDARD
TZOFFSETFROM:-0400
TZOFFSETTO:-0500
TZNAME:EST
DTSTART:20231105T060000
END:STANDARD
BEGIN:DAYLIGHT
TZOFFSETFROM:-0500
TZOFFSETTO:-0400
TZNAME:EDT
DTSTART:20240310T070000
END:DAYLIGHT
BEGIN:STANDARD
TZOFFSETFROM:-0400
TZOFFSETTO:-0500
TZNAME:EST
DTSTART:20241103T060000
END:STANDARD
BEGIN:DAYLIGHT
TZOFFSETFROM:-0500
TZOFFSETTO:-0400
TZNAME:EDT
DTSTART:20250309T070000
END:DAYLIGHT
BEGIN:STANDARD
TZOFFSETFROM:-0400
TZOFFSETTO:-0500
TZNAME:EST
DTSTART:20251102T060000
END:STANDARD
BEGIN:DAYLIGHT
TZOFFSETFROM:-0500
TZOFFSETTO:-0400
TZNAME:EDT
DTSTART:20260308T070000
END:DAYLIGHT
BEGIN:STANDARD
TZOFFSETFROM:-0400
TZOFFSETTO:-0500
TZNAME:EST
DTSTART:20261101T060000
END:STANDARD
BEGIN:DAYLIGHT
TZOFFSETFROM:-0500
TZOFFSETTO:-0400
TZNAME:EDT
DTSTART:20270314T070000
END:DAYLIGHT
BEGIN:STANDARD
TZOFFSETFROM:-0400
TZOFFSETTO:-0500
TZNAME:EST
DTSTART:20271107T060000
END:STANDARD
END:VTIMEZONE
BEGIN:VTIMEZONE
TZID:UTC
BEGIN:STANDARD
TZOFFSETFROM:+0000
TZOFFSETTO:+0000
TZNAME:UTC
DTSTART:20220101T000000
END:STANDARD
END:VTIMEZONE
BEGIN:VEVENT
DTSTART;TZID=America/New_York:20260321T150000
DTEND;TZID=America/New_York:20260321T190000
DTSTAMP:20260423T105708
CREATED:20260126T200431Z
LAST-MODIFIED:20260314T232205Z
UID:4963-1774105200-1774119600@www.mattkellyneverforgotten.com
SUMMARY:2026 PJ Whelihan’s Fundraiser
DESCRIPTION:Food & Drink\n4 hour open bar with a spread of delicious food \nLocation\nPJ Whelihan’s\n1347 Wilmington Pike\nWest Chester\, PA \nDate\nSaturday\, March 21st\, 2026 \n3:00pm-7:00pm \nBenefittingthe Matt Kelly Never Forgotten Foundation and our mission to support individuals in need$100 per person / $150 per couplewith kids eating for free!Buy Tickets NowDetailsJoin us in celebrating Matt Kelly’s legacy of supporting children’s charities and causes! \nRaise a glass at the open bar\, savor great food\, try your luck in some raffles\, and bring the kids along for a great day! \nThere will be a 4hr open bar with several food options including: \nWingsCheese steaksChicken cheese steaksSlidersSandwich and pasta barsFor the KidsA face painter creating fun designs throughout the event\nAlong with games for children of all ages to enjoy!
URL:https://www.mattkellyneverforgotten.com/event/2026-pjs-fundraiser/
LOCATION:PJ Whelihan’s\, 1347 Wilmington Pike\, West Chster\, Pennsylvania\, 19382
CATEGORIES:Fundraiser
ATTACH;FMTTYPE=image/jpeg:https://www.mattkellyneverforgotten.com/wp-content/uploads/2024/02/conceptshots_pjwhelihans.jpg
ORGANIZER;CN="Matt Kelly Never Forgotten Foundation":MAILTO:info@mattkellyneverforgotten.com
END:VEVENT
BEGIN:VEVENT
DTSTART;TZID=America/New_York:20251002T180000
DTEND;TZID=America/New_York:20251002T180000
DTSTAMP:20260423T105708
CREATED:20250916T194438Z
LAST-MODIFIED:20250918T190301Z
UID:4911-1759428000-1759428000@www.mattkellyneverforgotten.com
SUMMARY:2025 LaSalle College High School Soccer Game
DESCRIPTION:Join us in honoring Matt when the \nLaSalle Explorers take on Archbishop Ryan Thursday October 2\, 2025 \n6:00 PM \nLaSalle College High School – Flannery Field \n8605 Cheltenham Avenue\nWyndmoor\, PA 19038 \nTickets are $5 at the gate with proceeds going towards Matt’s scholarship fund at LaSalle College High School. \nImmediately following the game\, join Matt’s friends\, family\, and supporters of the Foundation at Rooster’s! \n294 N Keswick Ave.\, Glenside
URL:https://www.mattkellyneverforgotten.com/event/2025-lschs-soccer/
LOCATION:Pennsylvania
CATEGORIES:Soccer
ATTACH;FMTTYPE=image/jpeg:https://www.mattkellyneverforgotten.com/wp-content/uploads/2025/09/IMG_4036-rotated-e1758222016851.jpg
END:VEVENT
BEGIN:VEVENT
DTSTART;TZID=America/New_York:20250818T113000
DTEND;TZID=America/New_York:20250818T220000
DTSTAMP:20260423T105708
CREATED:20250423T183749Z
LAST-MODIFIED:20250815T171140Z
UID:4556-1755516600-1755554400@www.mattkellyneverforgotten.com
SUMMARY:3rd Annual Golf Outing and Dinner
DESCRIPTION:Support the legacy of Matt Kelly and the Matt Kelly Never Forgotten Foundation with a day of golf and a dinner reception.Get your tickets for 18 holes of golf\, a MKNF T-Shirt\, swag bag\, and a dinner reception with complimentary 2-hour open bar and live auctions below.\nPurchase Your Tickets\nLunch\n11:30am \nRegistration11:30amShotgun Start1:00pmOpen Bar6:00pmDinner6:45pmAugust 18th\, 20250000Days00Hours00Minutes00SecondsPenn Oaks Golf ClubHelp us to never forget Matt Kelly and the life he lived by becoming a sponsor \nSponsor TodayThank you for your interest\, someone from the organization will reach out to you shortly.×There was an error trying to send your information. Please try again later.×If you cannot attend the event\, please still consider donating to support the Matt Kelly Never Forgotten Foundation\nMake a Donation\n Special thanks to all our sponsors!
URL:https://www.mattkellyneverforgotten.com/event/2025/
LOCATION:Penn Oaks Golf Club\, 150 Penn Oaks Dr\, West Chester\, PA\, 19382\, United States
CATEGORIES:Golfing
ATTACH;FMTTYPE=image/jpeg:https://www.mattkellyneverforgotten.com/wp-content/uploads/2023/05/IMG_0060-2-scaled.jpg
ORGANIZER;CN="Matt Kelly Never Forgotten Foundation":MAILTO:info@mattkellyneverforgotten.com
END:VEVENT
BEGIN:VEVENT
DTSTART;TZID=America/New_York:20250322T160000
DTEND;TZID=America/New_York:20250322T190000
DTSTAMP:20260423T105709
CREATED:20250127T211308Z
LAST-MODIFIED:20250130T203301Z
UID:4412-1742659200-1742670000@www.mattkellyneverforgotten.com
SUMMARY:2025 PJ Whelihan’s Fundraiser
DESCRIPTION:Food & Drink\n3 hour open bar with a spread of delicious food \nLocation\nPJ Whelihan’s\n1347 Wilmington Pike\nWest Chester\, PA \nDate\nSaturday\, March 22nd\, 2025 \n4:00pm-7:00pm \nBenefittingthe Matt Kelly Never Forgotten Foundation and our mission to support individuals in need$100 per person / $150 per couplewith kids eating for free!Buy Tickets NowDetailsJoin us in celebrating Matt Kelly’s legacy of supporting children’s charities and causes! \nRaise a glass at the open bar\, savor great food\, try your luck in some raffles\, and bring the kids along for a great day! \nThere will be a 3hr open bar with several food options including: \nWingsCheese steaksChicken cheese steaksSlidersSandwich and pasta barsFor the KidsA face painter creating fun designs throughout the event\nAlong with games for children of all ages to enjoy!
URL:https://www.mattkellyneverforgotten.com/event/2025-pj-whelihans-fundraiser/
LOCATION:PJ Whelihan’s\, 1347 Wilmington Pike\, West Chster\, Pennsylvania\, 19382
CATEGORIES:Fundraiser
ATTACH;FMTTYPE=image/jpeg:https://www.mattkellyneverforgotten.com/wp-content/uploads/2024/02/conceptshots_pjwhelihans.jpg
ORGANIZER;CN="Matt Kelly Never Forgotten Foundation":MAILTO:info@mattkellyneverforgotten.com
END:VEVENT
BEGIN:VEVENT
DTSTART;TZID=America/New_York:20240819T113000
DTEND;TZID=America/New_York:20240819T210000
DTSTAMP:20260423T105709
CREATED:20240205T170016Z
LAST-MODIFIED:20240818T001119Z
UID:3656-1724067000-1724101200@www.mattkellyneverforgotten.com
SUMMARY:2nd Annual Golf Outing and Dinner
DESCRIPTION:Support the legacy of Matt Kelly and the Matt Kelly Never Forgotten Foundation with a day of golf and a dinner reception.Get your tickets for 18 holes of golf\, a MKNF T-Shirt\, swag bag\, and a dinner reception with complimentary 2-hour open bar and live auctions below.\nPurchase Your Tickets\nLunch\n11:30am \nRegistration11:30amShotgun Start1:00pmOpen Bar6:00pmDinner6:45pmAugust 19th\, 20240000Days00Hours00Minutes00SecondsPenn Oaks Golf ClubHelp us to never forget Matt Kelly and the life he lived by becoming a sponsor \nSponsor TodayThank you for your interest\, someone from the organization will reach out to you shortly.×There was an error trying to send your information. Please try again later.× A special thanks to all our sponsors! If you cannot attend the event\, please still consider donating to support the Matt Kelly Never Forgotten Foundation\nMake a Donation\nWant to  donate auction  items?Thank you for your interest in donating to the event’s auction. Your donation would be a great help towards raising funds for the foundation! \nSubmit your item by giving some brief details about it and any images or other information your willing to provide! \nWe appreciate you helping us\, you have no idea how much it means to have your support! \nIf you need help completing the form\, please contact info@mattkellyneverforgotten.com. \nTell us about your item×Donation Information\n\nClose
URL:https://www.mattkellyneverforgotten.com/event/2024/
LOCATION:Penn Oaks Golf Club\, 150 Penn Oaks Dr\, West Chester\, PA\, 19382\, United States
CATEGORIES:Golfing
ATTACH;FMTTYPE=image/jpeg:https://www.mattkellyneverforgotten.com/wp-content/uploads/2023/05/IMG_0019-2-scaled.jpg
ORGANIZER;CN="Matt Kelly Never Forgotten Foundation":MAILTO:info@mattkellyneverforgotten.com
END:VEVENT
BEGIN:VEVENT
DTSTART;TZID=America/New_York:20240803T130000
DTEND;TZID=America/New_York:20240803T170000
DTSTAMP:20260423T105709
CREATED:20240715T225247Z
LAST-MODIFIED:20240715T235219Z
UID:3991-1722690000-1722704400@www.mattkellyneverforgotten.com
SUMMARY:2024 Local Tap Cornhole Tournament
DESCRIPTION:Come join us for some refreshments and snacks at this family friendly venue as we continue to further the mission of the MKNF foundation. \nFor every pint of Favorite Child’s ‘Little Dan’s lager’ poured in the month of August\, Local Tap will be giving $1 back to the foundation. The numbers from 2023 showed this crew really likes their beer!! \nThis year we are hosting an epic Cornhole Tournament with a total of 16 teams available to compete for prizes! \nPurchase a Team Ticket Team Prizes 1st Place$500 Cash!2nd Place\nFlyers Tickets! \n3rd Place\nPenn Oaks Golf Foursome! \nPurchase a Team Ticket
URL:https://www.mattkellyneverforgotten.com/event/cornhole2024/
LOCATION:Local Tap\, 527 South Broad St.\, Lansdale\, PA\, 19446\, United States
ATTACH;FMTTYPE=image/jpeg:https://www.mattkellyneverforgotten.com/wp-content/uploads/2024/07/370561636_209904352079008_4805561557489223911_n-e1719961107612.jpg
ORGANIZER;CN="Matt Kelly Never Forgotten Foundation":MAILTO:info@mattkellyneverforgotten.com
END:VEVENT
BEGIN:VEVENT
DTSTART;TZID=America/New_York:20240316T160000
DTEND;TZID=America/New_York:20240316T190000
DTSTAMP:20260423T105709
CREATED:20240205T181035Z
LAST-MODIFIED:20240211T053357Z
UID:3674-1710604800-1710615600@www.mattkellyneverforgotten.com
SUMMARY:2024 PJ Whelihan’s Fundraiser
DESCRIPTION:Event InfoFood & Drink\n3 hour open bar with wings and other food \nLocation\nPJ Whelihan’s\n1347 Wilmington Pike\nWest Chester\, PA \nDate\nSaturday\, March 16th\, 2024 \n4:00pm-7:00pm \nBenefitting\nLaSalle HS’s Matty Ice Endowment Fund and the MKNF Foundation \nEvent Start0000Days00Hours00Minutes00SecondsEvent Cost$100 per person / $150 per couple\nwith kids eating for free! \nBuy Tickets NowDetailsSupport the legacy of Matt Kelly and specifically LaSalle High School’s “Matty Ice Endowment Fund” with a night out in West Chester with some food\, a 50/50 raffle and face painting for the kids among other things. \nThere will be a 3hr open bar with several food options including \nWingsCheese steaksChicken cheese steaksSlidersSandwich and pasta bars
URL:https://www.mattkellyneverforgotten.com/event/2024-pjs-fundraiser/
LOCATION:PJ Whelihan’s\, 1347 Wilmington Pike\, West Chster\, Pennsylvania\, 19382
CATEGORIES:Fundraiser
ATTACH;FMTTYPE=image/jpeg:https://www.mattkellyneverforgotten.com/wp-content/uploads/2024/02/conceptshots_pjwhelihans.jpg
ORGANIZER;CN="Matt Kelly Never Forgotten Foundation":MAILTO:info@mattkellyneverforgotten.com
END:VEVENT
BEGIN:VEVENT
DTSTART;TZID=UTC:20230814T133000
DTEND;TZID=UTC:20230814T213000
DTSTAMP:20260423T105709
CREATED:20230501T234704Z
LAST-MODIFIED:20230901T220738Z
UID:2492-1692019800-1692048600@www.mattkellyneverforgotten.com
SUMMARY:1st Annual Golf Outing
DESCRIPTION:A special thank you to everyone who was able to make it out and support the legacy of Matt Kelly and the Matt Kelly Never Forgotten Foundation!With the 18 holes of golf\, the golf bazooka cannon\, and dinner reception where we had tons of great raffle prizes and auctions up for bid we were able to raise a large amount for the Make Kelly Never Forgotten Foundation!It would never have been possible without the love and support of all of those in attendance and who donated leading up to the event!\nOver $0 A special thanks to all our sponsors who made it an incredible time! If you attended the event and have images you would like to share and allow us to use on the site and publications\, please click below to upload your photos\nUpload Photos\nImages from the Event\n				\n					\n					\n					\n				Loading the next set of gallery items...
URL:https://www.mattkellyneverforgotten.com/event/1st/
LOCATION:Penn Oaks Golf Club\, 150 Penn Oaks Dr\, West Chester\, PA\, 19382\, United States
CATEGORIES:Golfing
ATTACH;FMTTYPE=image/jpeg:https://www.mattkellyneverforgotten.com/wp-content/uploads/2023/04/PennOaksCourse.jpg
END:VEVENT
END:VCALENDAR